BEGIN:VCALENDAR
METHOD:PUBLISH
PRODID:-//Weblication CMS
VERSION:2.0
BEGIN:VEVENT
SUMMARY:Immobilien-Übergabe
DTSTART:20251210T180000
DTEND:20251210T200000
DESCRIPTION:Sicherung des Nachlasses
LOCATION:Neuried
UID:https://erbschaftplanen.de/de/veranstaltungen/termine/Testament-und-Vorsorge-Neuried.php
URL:https://erbschaftplanen.de/de/veranstaltungen/termine/Testament-und-Vorsorge-Neuried.php
END:VEVENT
END:VCALENDAR