BEGIN:VCALENDAR
METHOD:PUBLISH
PRODID:-//Weblication CMS
VERSION:2.0
BEGIN:VEVENT
SUMMARY:Übergabe oder Erbfolge
DTSTART:20260414T180000
DTEND:20260414T200000
DESCRIPTION:Altersabsicherung von Immobilien und Eigentum 
LOCATION:Lahr
UID:https://erbschaftplanen.de/de/veranstaltungen/termine/Uebergabe-und-wohnen-Lahr.php
URL:https://erbschaftplanen.de/de/veranstaltungen/termine/Uebergabe-und-wohnen-Lahr.php
END:VEVENT
END:VCALENDAR